BEGIN:VCALENDAR
PRODID:-//francefurs.org//NONSGML kigkonsult.se iCalcreator 2.8//
VERSION:2.0
BEGIN:VEVENT
UID:20260421T115057CEST-1362WULMbb@francefurs.org
DTSTAMP:20260421T090457Z
CATEGORIES:Convention
CLASS:PUBLIC
DTSTART:20250426T140000Z
DTEND:20250427T180000Z
SUMMARY:Festival Yutopia 2025
TRANSP:TRANSPARENT
END:VEVENT
BEGIN:VEVENT
UID:20260421T115057CEST-1366rvVwrR@francefurs.org
DTSTAMP:20260421T090457Z
CATEGORIES:Convention
CLASS:PUBLIC
DTSTART:20250523T100000Z
DTEND:20250525T190000Z
SUMMARY:Lorraine Furs - Les Imaginales 2025
TRANSP:TRANSPARENT
END:VEVENT
BEGIN:VEVENT
UID:20260421T115057CEST-1369jFtW8v@francefurs.org
DTSTAMP:20260421T090457Z
CATEGORIES:Furmeet
CLASS:PUBLIC
DTSTART:20250705T100000Z
DTEND:20250705T180000Z
SUMMARY:Lorraine Furs - Fête de la jeunesse - Lunéville
TRANSP:TRANSPARENT
END:VEVENT
BEGIN:VEVENT
UID:20260421T115057CEST-1372Osiezs@francefurs.org
DTSTAMP:20260421T090457Z
CATEGORIES:Furmeet
CLASS:PUBLIC
DTSTART:20250809T110000Z
DTEND:20250809T180000Z
SUMMARY:Lorraine Furs - Furwalk 67ème édition - Août 2025
TRANSP:TRANSPARENT
END:VEVENT
BEGIN:VEVENT
UID:20260421T115057CEST-1375upRxDr@francefurs.org
DTSTAMP:20260421T090457Z
CATEGORIES:Convention
CLASS:PUBLIC
DTSTART:20250913T100000Z
DTEND:20250914T190000Z
SUMMARY:Lorraine Furs - Convention Vandoeuvre In Games 2025
TRANSP:TRANSPARENT
END:VEVENT
BEGIN:VEVENT
UID:20260421T115057CEST-1378lu11hr@francefurs.org
DTSTAMP:20260421T090457Z
CATEGORIES:Autre
CLASS:PUBLIC
DTSTART:20251018T100000Z
DTEND:20251018T235500Z
SUMMARY:Lorraine Furs - Miralloween III
TRANSP:TRANSPARENT
END:VEVENT
BEGIN:VEVENT
UID:20260421T115057CEST-13801JD1uH@francefurs.org
DTSTAMP:20260421T090457Z
CATEGORIES:Autre
CLASS:PUBLIC
DTSTART:20251130T130000Z
DTEND:20251130T180000Z
SUMMARY:Lorraine Furs - Défilé St Nicolas
TRANSP:TRANSPARENT
END:VEVENT
BEGIN:VEVENT
UID:20260421T115057CEST-1383FUuUVM@francefurs.org
DTSTAMP:20260421T090457Z
CATEGORIES:Autre
CLASS:PUBLIC
DTSTART:20251206T130000Z
DTEND:20251206T180000Z
SUMMARY:Lorraine Furs - Défilé St Nicolas
TRANSP:TRANSPARENT
END:VEVENT
BEGIN:VEVENT
UID:20260421T115057CEST-13860Ct06v@francefurs.org
DTSTAMP:20260421T090457Z
CATEGORIES:Autre
CLASS:PUBLIC
DTSTART:20260117T135000Z
DTEND:20260117T180000Z
SUMMARY:Lorraine Furs - AG 2026
TRANSP:TRANSPARENT
END:VEVENT
BEGIN:VEVENT
UID:20260421T115057CEST-1389hvwCBX@francefurs.org
DTSTAMP:20260421T090457Z
CATEGORIES:Sortie fursuit
CLASS:PUBLIC
DTSTART:20260214T134500Z
DTEND:20260214T180000Z
SUMMARY:Lorraine Furs - Furwalk 68ème édition - Février 2026
TRANSP:TRANSPARENT
END:VEVENT
BEGIN:VEVENT
UID:20260421T115057CEST-1391VR6c8W@francefurs.org
DTSTAMP:20260421T090457Z
CATEGORIES:Autre
CLASS:PUBLIC
DTSTART:20260308T133000Z
DTEND:20260308T170000Z
SUMMARY:Lorraine Furs - Carnaval Thaon
TRANSP:TRANSPARENT
END:VEVENT
BEGIN:VEVENT
UID:20260421T115057CEST-1394Rsi1dK@francefurs.org
DTSTAMP:20260421T090457Z
CATEGORIES:Furmeet
CLASS:PUBLIC
DTSTART:20260314T133000Z
DTEND:20260314T170000Z
SUMMARY:Lorraine Furs - Furwalk 69ème édition - Mars 2026
TRANSP:TRANSPARENT
END:VEVENT
BEGIN:VEVENT
UID:20260421T115057CEST-1397ERVziu@francefurs.org
DTSTAMP:20260421T090457Z
CATEGORIES:Furmeet
CLASS:PUBLIC
DTSTART:20260411T133000Z
DTEND:20260411T170000Z
SUMMARY:Lorraine Furs - Furwalk 70ème édition - Avril 2026
TRANSP:TRANSPARENT
END:VEVENT
BEGIN:VEVENT
UID:20260421T115057CEST-1400mVo3m6@francefurs.org
DTSTAMP:20260421T090457Z
CATEGORIES:Furmeet
CLASS:PUBLIC
DTSTART:20260530T133000Z
DTEND:20260530T170000Z
SUMMARY:Lorraine Furs - 71ème édition - Mai 2026
TRANSP:TRANSPARENT
END:VEVENT
END:VCALENDAR
